BEGIN:VCALENDAR
VERSION:2.0
PRODID:-//VMAA - ECPv6.15.14//NONSGML v1.0//EN
CALSCALE:GREGORIAN
METHOD:PUBLISH
X-WR-CALNAME:VMAA
X-ORIGINAL-URL:https://www.vmaa.com.au
X-WR-CALDESC:Events for VMAA
REFRESH-INTERVAL;VALUE=DURATION:PT1H
X-Robots-Tag:noindex
X-PUBLISHED-TTL:PT1H
BEGIN:VTIMEZONE
TZID:Australia/Melbourne
BEGIN:STANDARD
TZOFFSETFROM:+1100
TZOFFSETTO:+1000
TZNAME:AEST
DTSTART:20240406T160000
END:STANDARD
BEGIN:DAYLIGHT
TZOFFSETFROM:+1000
TZOFFSETTO:+1100
TZNAME:AEDT
DTSTART:20241005T160000
END:DAYLIGHT
BEGIN:STANDARD
TZOFFSETFROM:+1100
TZOFFSETTO:+1000
TZNAME:AEST
DTSTART:20250405T160000
END:STANDARD
BEGIN:DAYLIGHT
TZOFFSETFROM:+1000
TZOFFSETTO:+1100
TZNAME:AEDT
DTSTART:20251004T160000
END:DAYLIGHT
BEGIN:STANDARD
TZOFFSETFROM:+1100
TZOFFSETTO:+1000
TZNAME:AEST
DTSTART:20260404T160000
END:STANDARD
BEGIN:DAYLIGHT
TZOFFSETFROM:+1000
TZOFFSETTO:+1100
TZNAME:AEDT
DTSTART:20261003T160000
END:DAYLIGHT
END:VTIMEZONE
BEGIN:VEVENT
DTSTART;TZID=Australia/Melbourne:20251101T080000
DTEND;TZID=Australia/Melbourne:20251102T160000
DTSTAMP:20260420T205238
CREATED:20250720T031920Z
LAST-MODIFIED:20250720T031920Z
UID:8144-1761984000-1762099200@www.vmaa.com.au
SUMMARY:Warbirds over Bairnsdale
DESCRIPTION:Bairnsdale and District Model Aero Club are hosting the third Warbirds over Bairnsdale event on the Melbourne Cup Long Weekend. The event will run over the weekend\, but the field will be open from the Thursday through to Tuesday.\nPilot entry is $25. Public entry is by gold coin donation.\nThere will be onsite catering all weekend. EFTPOS available.\nAll military aircraft welcome with pilot’s choice awards for best propeller monoplane\, best biplane and best other military aircraft.\nThere will be a raffle over the weekend and a pilot’s draw for entered pilots.\nThe club has excellent camping facilities for pilots\, including toilets\, hot showers\, cooking facilities and a great fire ring for evening debriefing.
URL:https://www.vmaa.com.au/event/warbirds-over-bairnsdale-2/
LOCATION:BADMAC\, 1125 Bengworden Rd\,\, Goon Nure\, Victoria\, 3875\, Australia
CATEGORIES:Warbirds
ATTACH;FMTTYPE=image/jpeg:https://www.vmaa.com.au/wp-content/uploads/2025/07/Spitfire.jpg
END:VEVENT
BEGIN:VEVENT
DTSTART;TZID=Australia/Melbourne:20251101T080000
DTEND;TZID=Australia/Melbourne:20251102T160000
DTSTAMP:20260420T205238
CREATED:20250929T203500Z
LAST-MODIFIED:20250929T203500Z
UID:8444-1761984000-1762099200@www.vmaa.com.au
SUMMARY:Warbirds over Bairnsdale
DESCRIPTION:Bairnsdale and District Model Aero Club are hosting the third Warbirds over Bairnsdale event on the Melbourne Cup Long Weekend. The event will run over the weekend\, but the field will be open from the Thursday through to Tuesday.\nPilot entry is $25. Public entry is by gold coin donation.\nThere will be onsite catering all weekend. EFTPOS available.\nAll military aircraft welcome with pilot’s choice awards for best propeller monoplane\, best biplane and best other military aircraft.\nThere will be a raffle over the weekend and a pilot’s draw for entered pilots.\nThe club has excellent camping facilities for pilots\, including toilets\, hot showers\, cooking facilities and a great fire ring for evening debriefing.
URL:https://www.vmaa.com.au/event/warbirds-over-bairnsdale-3/
LOCATION:BADMAC\, 1125 Bengworden Rd\,\, Goon Nure\, Victoria\, 3875\, Australia
CATEGORIES:Warbirds
ATTACH;FMTTYPE=image/jpeg:https://www.vmaa.com.au/wp-content/uploads/2025/09/Warbirds-Over-Bairnsdale.jpg
END:VEVENT
BEGIN:VEVENT
DTSTART;TZID=Australia/Melbourne:20251101T080000
DTEND;TZID=Australia/Melbourne:20251102T170000
DTSTAMP:20260420T205238
CREATED:20250521T085245Z
LAST-MODIFIED:20250521T085245Z
UID:7984-1761984000-1762102800@www.vmaa.com.au
SUMMARY:Echuca Aerobatic "Smackdown"
DESCRIPTION:This is an Aerobatic fun fly event for all types of Aircraft. Great prizes are on offer with support from generous sponsors. \nCamping\, meals and refreshments available. A light tower is available for night flying action on Saturday night. Just a great fun weekend of Flying.
URL:https://www.vmaa.com.au/event/echuca-aerobatic-smackdown/
LOCATION:EMMAC\, Watson Road\, Kanyapella\, Vic\, 3564\, Australia
CATEGORIES:Fun Fly
ATTACH;FMTTYPE=image/jpeg:https://www.vmaa.com.au/wp-content/uploads/2025/05/SMACKDOWN-2025.jpg
ORGANIZER;CN="EMMAC":MAILTO:fwest@bigpond.net.au
END:VEVENT
BEGIN:VEVENT
DTSTART;TZID=Australia/Melbourne:20251109T090000
DTEND;TZID=Australia/Melbourne:20251109T150000
DTSTAMP:20260420T205238
CREATED:20250910T035850Z
LAST-MODIFIED:20250910T035850Z
UID:8365-1762678800-1762700400@www.vmaa.com.au
SUMMARY:P&DARCS Scratch & Kit Built Rally
DESCRIPTION:This rally is to highlight all types of kit and scratch built planes.  All planes are welcome\, no ARFs please. \nTrophies and give aways  will be awarded during the event\, only $10 to enter per pilot. \nCome and learn from other modellers on building tips and tricks\, bring along your project to show off. A trophy will be awarded to best project. \nPilots must be MAAA affiliates – MAAA cards and Model Permits must be sighted. \nThe P&DARCS Club has a 1\,500ft ceiling height which will be enforced and please note that dogs are not allowed on the field\, even on a leash. \nHOLK RC will have a shop at the field selling a range of hobby supplies
URL:https://www.vmaa.com.au/event/pdarcs-scratch-kit-built-rally/
LOCATION:P&DARCS\, 30 Fowler Rd\,\, Cardinia\, Victoria\, 3978\, Australia
CATEGORIES:Other,Scale
ATTACH;FMTTYPE=image/jpeg:https://www.vmaa.com.au/wp-content/uploads/2025/09/scale-rally.jpg
END:VEVENT
BEGIN:VEVENT
DTSTART;VALUE=DATE:20251114
DTEND;VALUE=DATE:20251117
DTSTAMP:20260420T205238
CREATED:20251009T072044Z
LAST-MODIFIED:20251009T072044Z
UID:8468-1763078400-1763337599@www.vmaa.com.au
SUMMARY:Midway F5j Cup\, Horsham\, Victoria
DESCRIPTION:Midway Cup F5j Event ran by RCGG\, and Hosted by Wimmera Model Aircraft Association\, Horsham. Victoria. \nIs proud to present the 10th Anniversary of the Midway Cup at the Rob Jess Model flying Field. \nCamping sites available at $15/Head/Night. Toilet\, Hot shower available. Competition entrants fee/applications available through RCGG Marcus Stent\, at mstent@live.com.au . Friday is local flying/Practice setup day\, BYO! \nJess Feild is currently looking fantastic and picturesque view of the Grampians Mountains from launch site! Come have some fun\, thermal hunting with mates! 😉😁
URL:https://www.vmaa.com.au/event/midway-f5j-cup-horsham-victoria/
LOCATION:WMAA\, Horsham\, 680 Greenlake Rd\, Wonwondah\, HORSHAM\, Victoria\, 3401\, Australia
CATEGORIES:Other
ATTACH;FMTTYPE=image/jpeg:https://www.vmaa.com.au/wp-content/uploads/2025/10/20161203_0903156.jpg
ORGANIZER;CN="RCGG":MAILTO:mstent@live.com.au
END:VEVENT
BEGIN:VEVENT
DTSTART;TZID=Australia/Melbourne:20251115T080000
DTEND;TZID=Australia/Melbourne:20251116T170000
DTSTAMP:20260420T205238
CREATED:20250720T032039Z
LAST-MODIFIED:20250720T032039Z
UID:8155-1763193600-1763312400@www.vmaa.com.au
SUMMARY:"MossKosh" Annual Fun Fly
DESCRIPTION:The Ararat and District Aeromodellers Club has great pleasure in inviting all MAAA pilots to the “MossKosh” Annual Fun Fly. \nNamme after our beloved past president\, Moss Heard\, this annual event lives up to the ethos that Moss promoted at the Ararat club which is to simply have fun flying model planes. \nWe look forward to seeing you at this fun event.
URL:https://www.vmaa.com.au/event/mosskosh-annual-fun-fly/
LOCATION:Victoria
CATEGORIES:Fun Fly
ATTACH;FMTTYPE=image/jpeg:https://www.vmaa.com.au/wp-content/uploads/2025/07/20250719_091649-min-2.jpg
ORGANIZER;CN="ADAC":MAILTO:pimblott@optusnet.com.au
END:VEVENT
BEGIN:VEVENT
DTSTART;TZID=Australia/Melbourne:20251122T080000
DTEND;TZID=Australia/Melbourne:20251123T150000
DTSTAMP:20260420T205238
CREATED:20250508T033929Z
LAST-MODIFIED:20250508T033929Z
UID:7927-1763798400-1763910000@www.vmaa.com.au
SUMMARY:BRAG Fun & Float Fly 2025
DESCRIPTION:The BRAG RC Model Plane Club is pleased to announce the third BRAG Fun & Float Fly to be held on the 22rd & 23rd of November 2025.\nAnother great event at the BRAG club with 4 trophies up for grabs. \n(If the weather is not suitable follow our Facebook pages for updates) \nThe club would like to invite all VMAA – MAAA affiliate clubs & their members to visit and enjoy our facilities for this enjoyable event where we have sessions of flying off the Strip and then Float flying. A great weekend\, so we hope to see you there.
URL:https://www.vmaa.com.au/event/brag-fun-float-fly-2025/
LOCATION:BawBaw RC Club – BRAG Willow Grove\, 24 blue Rock Road\, Willow Grove\, Victoria\, 3823\, Australia
CATEGORIES:Float Fly,Fun Fly
ATTACH;FMTTYPE=image/jpeg:https://www.vmaa.com.au/wp-content/uploads/2025/05/FLYER-BRAG-Fun-Float-Fly-2025-Sponsored-V1.jpg
ORGANIZER;CN="Brag Club":MAILTO:events@bawbawrc.com.au
END:VEVENT
BEGIN:VEVENT
DTSTART;VALUE=DATE:20251129
DTEND;VALUE=DATE:20251201
DTSTAMP:20260420T205238
CREATED:20251107T093651Z
LAST-MODIFIED:20251107T093651Z
UID:8513-1764374400-1764547199@www.vmaa.com.au
SUMMARY:HMAC Fun Fly
DESCRIPTION:HMAC Annual Fun Fly & Swap Meet Weekend\nPlease refer to our flyer for details
URL:https://www.vmaa.com.au/event/hmac-fun-fly-2/
LOCATION:HMAC\, 1145 Branxholme-Byaduk Road\, Byadak North\, Vic\, Australia
CATEGORIES:Fun Fly
ATTACH;FMTTYPE=image/jpeg:https://www.vmaa.com.au/wp-content/uploads/2025/11/Fun-Fly-Hamilton-FLYER-2025-1.jpg
END:VEVENT
END:VCALENDAR