BEGIN:VCALENDAR
VERSION:2.0
PRODID:-//VMAA - ECPv6.15.14//NONSGML v1.0//EN
CALSCALE:GREGORIAN
METHOD:PUBLISH
X-ORIGINAL-URL:https://www.vmaa.com.au
X-WR-CALDESC:Events for VMAA
REFRESH-INTERVAL;VALUE=DURATION:PT1H
X-Robots-Tag:noindex
X-PUBLISHED-TTL:PT1H
BEGIN:VTIMEZONE
TZID:Australia/Melbourne
BEGIN:STANDARD
TZOFFSETFROM:+1100
TZOFFSETTO:+1000
TZNAME:AEST
DTSTART:20240406T160000
END:STANDARD
BEGIN:DAYLIGHT
TZOFFSETFROM:+1000
TZOFFSETTO:+1100
TZNAME:AEDT
DTSTART:20241005T160000
END:DAYLIGHT
BEGIN:STANDARD
TZOFFSETFROM:+1100
TZOFFSETTO:+1000
TZNAME:AEST
DTSTART:20250405T160000
END:STANDARD
BEGIN:DAYLIGHT
TZOFFSETFROM:+1000
TZOFFSETTO:+1100
TZNAME:AEDT
DTSTART:20251004T160000
END:DAYLIGHT
BEGIN:STANDARD
TZOFFSETFROM:+1100
TZOFFSETTO:+1000
TZNAME:AEST
DTSTART:20260404T160000
END:STANDARD
BEGIN:DAYLIGHT
TZOFFSETFROM:+1000
TZOFFSETTO:+1100
TZNAME:AEDT
DTSTART:20261003T160000
END:DAYLIGHT
END:VTIMEZONE
BEGIN:VEVENT
DTSTART;TZID=Australia/Melbourne:20250607T080000
DTEND;TZID=Australia/Melbourne:20250608T170000
DTSTAMP:20260420T121241
CREATED:20241205T101905Z
LAST-MODIFIED:20241205T101905Z
UID:6917-1749283200-1749402000@www.vmaa.com.au
SUMMARY:Lake Bolac Annual Float Fly
DESCRIPTION:Annual float fly held by Ararat and District Aeromodellers Club at Lake Bolac. Onsite facilities include limited camping\, toilet and showers available\, hot food and cold drinks available. Close to caravan park and shops.Great weekend\, great facilities and great views.
URL:https://www.vmaa.com.au/event/lake-bolac-annual-float-fly/
LOCATION:Lake Bolac\, Frontage Road\, Lake Bolac\, Vic\, 3351\, Australia
CATEGORIES:Float Fly
ATTACH;FMTTYPE=image/jpeg:https://www.vmaa.com.au/wp-content/uploads/2024/12/IMG_2024-06-08-12-21-20-431.jpg
ORGANIZER;CN="ADAC":MAILTO:pimblott@optusnet.com.au
END:VEVENT
BEGIN:VEVENT
DTSTART;TZID=Australia/Melbourne:20250607T090000
DTEND;TZID=Australia/Melbourne:20250608T170000
DTSTAMP:20260420T121241
CREATED:20250312T032415Z
LAST-MODIFIED:20250312T032619Z
UID:7600-1749286800-1749402000@www.vmaa.com.au
SUMMARY:VICSCALE Trophy weekend - Bendigo
DESCRIPTION:The ASA is buzzing with excitement to announce that the VICSCALE TROPHY is back at the Bendigo Club in 2025!\nWe’ve got a class for every flying style\, so whether you’re a soaring eagle or a steady buzzard\, there’s a spot for you.\nIt’s the perfect playground for newbies to dip their toes into the thrilling world of competition scale flying. Plus\, it’s a fantastic warm-up for the Team Trial coming your way in October 2025! Buckle up\, aviators!
URL:https://www.vmaa.com.au/event/vicscale-trophy-weekend-bendigo/
LOCATION:BRCAC\, Wimmera Highway\, Marong\, Victoria\, 3515\, Australia
CATEGORIES:Scale
ATTACH;FMTTYPE=image/png:https://www.vmaa.com.au/wp-content/uploads/2025/03/ASA-COMP-FEB-25.png
ORGANIZER;CN="Australian Scale Aeropsort - ASA":MAILTO:ausscalesecretary@gmail.com
END:VEVENT
BEGIN:VEVENT
DTSTART;TZID=Australia/Melbourne:20250607T100000
DTEND;TZID=Australia/Melbourne:20250608T160000
DTSTAMP:20260420T121241
CREATED:20241014T201729Z
LAST-MODIFIED:20250512T060209Z
UID:5948-1749290400-1749398400@www.vmaa.com.au
SUMMARY:Speedweekend Melbourne
DESCRIPTION:High speed scale air racing around the pylons. A two day open competition of man versus manufactured radio controlled machinery with Formula  1\, Formula 2\, Formula 3 categories and Not forgetting the venerable AT-6 Texan. \nClick on image for more  \n 
URL:https://www.vmaa.com.au/event/speedweekend-melbourne/
LOCATION:NFG – Northern Flying Group\, 214 Quayles Rd\,\, Darraweit Guim\, VIC\, 3756\, Australia
CATEGORIES:Other
ATTACH;FMTTYPE=image/jpeg:https://www.vmaa.com.au/wp-content/uploads/2024/10/Golden-Era.jpg
ORGANIZER;CN="Large Scaling Racing Club":MAILTO:nitro2burn@bigpond.com
END:VEVENT
BEGIN:VEVENT
DTSTART;VALUE=DATE:20250628
DTEND;VALUE=DATE:20250629
DTSTAMP:20260420T121241
CREATED:20250605T084121Z
LAST-MODIFIED:20250605T084121Z
UID:8012-1751068800-1751155199@www.vmaa.com.au
SUMMARY:CHEW & CHAT
DESCRIPTION:The ASA would like to welcome all scale modellers and pilots wanting to learn more about scale building to Pakenham & District Aircraft Radio Controlled Society on Saturday 28 June from around 10am. A low key casual catch up to chat everything scale building. So bring along a model/project or questions and if the weather is playing nice\, we can all have a fly together. Mark it in your diaries!
URL:https://www.vmaa.com.au/event/chew-chat/
LOCATION:P&DARCS\, 30 Fowler Rd\,\, Cardinia\, Victoria\, 3978\, Australia
CATEGORIES:Other
ATTACH;FMTTYPE=image/jpeg:https://www.vmaa.com.au/wp-content/uploads/2025/06/IMG_9742.jpeg
ORGANIZER;CN="Australian Scale Aeropsort - ASA":MAILTO:ausscalesecretary@gmail.com
END:VEVENT
END:VCALENDAR