BEGIN:VCALENDAR
VERSION:2.0
PRODID:-//VMAA - ECPv6.15.14//NONSGML v1.0//EN
CALSCALE:GREGORIAN
METHOD:PUBLISH
X-ORIGINAL-URL:https://www.vmaa.com.au
X-WR-CALDESC:Events for VMAA
REFRESH-INTERVAL;VALUE=DURATION:PT1H
X-Robots-Tag:noindex
X-PUBLISHED-TTL:PT1H
BEGIN:VTIMEZONE
TZID:Australia/Melbourne
BEGIN:STANDARD
TZOFFSETFROM:+1100
TZOFFSETTO:+1000
TZNAME:AEST
DTSTART:20240406T160000
END:STANDARD
BEGIN:DAYLIGHT
TZOFFSETFROM:+1000
TZOFFSETTO:+1100
TZNAME:AEDT
DTSTART:20241005T160000
END:DAYLIGHT
BEGIN:STANDARD
TZOFFSETFROM:+1100
TZOFFSETTO:+1000
TZNAME:AEST
DTSTART:20250405T160000
END:STANDARD
BEGIN:DAYLIGHT
TZOFFSETFROM:+1000
TZOFFSETTO:+1100
TZNAME:AEDT
DTSTART:20251004T160000
END:DAYLIGHT
BEGIN:STANDARD
TZOFFSETFROM:+1100
TZOFFSETTO:+1000
TZNAME:AEST
DTSTART:20260404T160000
END:STANDARD
BEGIN:DAYLIGHT
TZOFFSETFROM:+1000
TZOFFSETTO:+1100
TZNAME:AEDT
DTSTART:20261003T160000
END:DAYLIGHT
END:VTIMEZONE
BEGIN:VEVENT
DTSTART;TZID=Australia/Melbourne:20250503T000000
DTEND;TZID=Australia/Melbourne:20250504T235959
DTSTAMP:20260420T102607
CREATED:20250203T074647Z
LAST-MODIFIED:20250209T201851Z
UID:7173-1746230400-1746403199@www.vmaa.com.au
SUMMARY:Sunraysia Aeromodellers Fun Fly 2025
DESCRIPTION:Sunraysia Aeromodellers will be holding our annual Fun Fly on the 3rd and 4th of May. Come along and enjoy two awesome days of flying fun with a great bunch of fellow aeromodellers. Fully catered all weekend with our legendary Saturday night 3 course meal that never disappoints. Free camping is available with shower facilities on site. Come along for a day or two or stay even for a week. All types of flying models catered for\, so don’t be shy\, bring it along. See you there.
URL:https://www.vmaa.com.au/event/sunraysia-aeromodellers-fun-fly-2025/
LOCATION:Sunraysia Aeromodellers\, 54 23rd Street\, Mildura\, Victoria\, 3502\, Australia
CATEGORIES:Fun Fly
ATTACH;FMTTYPE=image/jpeg:https://www.vmaa.com.au/wp-content/uploads/2025/02/Sunrasia-2025-funfly-1.jpg
END:VEVENT
BEGIN:VEVENT
DTSTART;TZID=Australia/Melbourne:20250510T080000
DTEND;TZID=Australia/Melbourne:20250511T170000
DTSTAMP:20260420T102607
CREATED:20250503T095049Z
LAST-MODIFIED:20250503T095049Z
UID:7908-1746864000-1746982800@www.vmaa.com.au
SUMMARY:BADRC Vs BRAG 2025
DESCRIPTION:BADRC is visiting BRAG.\nIf you missed out on the great time at the recent Blue Rock Float Fly.\nCome to Willow Grove for a great day or weekend.\nSaturday BBQ lunch and Sunday morning Breakfast provided.\nDiner will be at the local PUB that is under new management and has great reviews.\nPilot entry $35. No donation for camping required.\nProceeds go to the BADRC Club.
URL:https://www.vmaa.com.au/event/badrc-vs-brag-2025/
LOCATION:BawBaw RC Club – BRAG Willow Grove\, 24 blue Rock Road\, Willow Grove\, Victoria\, 3823\, Australia
CATEGORIES:Fun Fly
ATTACH;FMTTYPE=image/jpeg:https://www.vmaa.com.au/wp-content/uploads/2025/05/FLYER-BADRC-visits-BRAG-2025-V2.jpg
ORGANIZER;CN="Brag Club":MAILTO:events@bawbawrc.com.au
END:VEVENT
BEGIN:VEVENT
DTSTART;VALUE=DATE:20250524
DTEND;VALUE=DATE:20250526
DTSTAMP:20260420T102607
CREATED:20250321T101353Z
LAST-MODIFIED:20250321T101353Z
UID:7681-1748044800-1748217599@www.vmaa.com.au
SUMMARY:Bairnsdale Mid May Muster
DESCRIPTION:Pilot entry fee is just $25.00 with no limit upon the number of model aircraft you bring to fly. \nAirfield gates will be open from Friday 23rd through to Monday 26th May 2024. \nMAAA members are most welcome to camp on-site at our Goon Nure flying field from Friday night 23rd of May 2025. All that we ask is that you include  $10.00 per night to cover our costs. \n\nElectric power\, toilets\, hot showers\, gas barbeque\, fire pit and disabled amenities are available to you.\n\nOtherwise\, there is Caravan Park and Cabin accommodation available around the Bairnsdale area.
URL:https://www.vmaa.com.au/event/bairnsdale-mid-may-muster/
LOCATION:BADMAC\, 1125 Bengworden Rd\,\, Goon Nure\, Victoria\, 3875\, Australia
CATEGORIES:Fun Fly
ATTACH;FMTTYPE=image/png:https://www.vmaa.com.au/wp-content/uploads/2025/03/Mid-May-Muster.png
END:VEVENT
END:VCALENDAR