BEGIN:VCALENDAR
VERSION:2.0
PRODID:-//VMAA - ECPv6.15.14//NONSGML v1.0//EN
CALSCALE:GREGORIAN
METHOD:PUBLISH
X-ORIGINAL-URL:https://www.vmaa.com.au
X-WR-CALDESC:Events for VMAA
REFRESH-INTERVAL;VALUE=DURATION:PT1H
X-Robots-Tag:noindex
X-PUBLISHED-TTL:PT1H
BEGIN:VTIMEZONE
TZID:Australia/Melbourne
BEGIN:STANDARD
TZOFFSETFROM:+1100
TZOFFSETTO:+1000
TZNAME:AEST
DTSTART:20240406T160000
END:STANDARD
BEGIN:DAYLIGHT
TZOFFSETFROM:+1000
TZOFFSETTO:+1100
TZNAME:AEDT
DTSTART:20241005T160000
END:DAYLIGHT
BEGIN:STANDARD
TZOFFSETFROM:+1100
TZOFFSETTO:+1000
TZNAME:AEST
DTSTART:20250405T160000
END:STANDARD
BEGIN:DAYLIGHT
TZOFFSETFROM:+1000
TZOFFSETTO:+1100
TZNAME:AEDT
DTSTART:20251004T160000
END:DAYLIGHT
BEGIN:STANDARD
TZOFFSETFROM:+1100
TZOFFSETTO:+1000
TZNAME:AEST
DTSTART:20260404T160000
END:STANDARD
BEGIN:DAYLIGHT
TZOFFSETFROM:+1000
TZOFFSETTO:+1100
TZNAME:AEDT
DTSTART:20261003T160000
END:DAYLIGHT
END:VTIMEZONE
BEGIN:VEVENT
DTSTART;TZID=Australia/Melbourne:20250302T090000
DTEND;TZID=Australia/Melbourne:20250302T150000
DTSTAMP:20260420T102606
CREATED:20250214T095434Z
LAST-MODIFIED:20250214T095435Z
UID:7274-1740906000-1740927600@www.vmaa.com.au
SUMMARY:Melton Car Boot Sale and Fly In
DESCRIPTION:Bring any modelling gear and aircraft you wish to sell at the Melton Model Aircraft Association Car Boot Sale. \nWhile your at it bring a model to fly as well. \nGrab a bargain and take it for a fly
URL:https://www.vmaa.com.au/event/melton-car-boot-sale-and-fly-in/
LOCATION:Melton Model Aircraft Association\, 180 Faulkners Road\, Mount Cottrell\, VIctoria\, 3024\, Australia
CATEGORIES:Other
ATTACH;FMTTYPE=image/jpeg:https://www.vmaa.com.au/wp-content/uploads/2025/02/Melton-Car-Boot-Sale-2025.jpg
ORGANIZER;CN="MMAA Secretary":MAILTO:secretary@mmaa.org.au
END:VEVENT
BEGIN:VEVENT
DTSTART;TZID=Australia/Melbourne:20250308T000000
DTEND;TZID=Australia/Melbourne:20250309T235959
DTSTAMP:20260420T102606
CREATED:20241128T202808Z
LAST-MODIFIED:20241128T202808Z
UID:6835-1741392000-1741564799@www.vmaa.com.au
SUMMARY:Bairnsdale Action Scale Rally
DESCRIPTION:Join us for an exciting weekend at the Bairsdale Action Scale Rally! Bring your favorite scale models\, enjoy delicious food\, take part in raffles\, and compete for the prestigious Pilot’s Choice Award. Make it a weekend to remember!\nPilots $25 entry (Door prize raffle for pilots) \npublic -gold coin donation \ncatering onsite\, camping encouraged\, accessible showers and toilets.🚽 o
URL:https://www.vmaa.com.au/event/bairnsdale-action-scale-rally/
LOCATION:BADMAC\, 1125 Bengworden Rd\,\, Goon Nure\, Victoria\, 3875\, Australia
CATEGORIES:Fun Fly,Scale
ATTACH;FMTTYPE=image/jpeg:https://www.vmaa.com.au/wp-content/uploads/2024/11/IMG_4560-scaled.jpeg
END:VEVENT
BEGIN:VEVENT
DTSTART;TZID=Australia/Melbourne:20250313T120000
DTEND;TZID=Australia/Melbourne:20250316T160000
DTSTAMP:20260420T102606
CREATED:20241205T102122Z
LAST-MODIFIED:20241205T102123Z
UID:6906-1741867200-1742140800@www.vmaa.com.au
SUMMARY:Wangaratta Jets 2025
DESCRIPTION:Countdown to Wangjets 2025 Begin\n\n\n\nMark your calendars! The VJAA’s premier event\, Wangjets 2025\, is just around the corner!\n\nDates: March 13th – 16th\, 2025\n\nWe can’t wait to see you all there for another unforgettable weekend of fun flying and socialising! \nWhether you’re a first-time attendee or a returning flyer\, this year’s event promises to be bigger and better than ever.\nStay tuned for more details\, and get ready for an epic time!
URL:https://www.vmaa.com.au/event/wangaratta-jets-2025/
LOCATION:Wangaratta Airport\, Brian Higgins Drive\, Laceby\, Victoria\, 3678\, Australia
CATEGORIES:Other
ATTACH;FMTTYPE=image/jpeg:https://www.vmaa.com.au/wp-content/uploads/2024/12/Wangjets2025.jpg
ORGANIZER;CN="VJAA":MAILTO:secretary@vjaa.org.au
END:VEVENT
BEGIN:VEVENT
DTSTART;TZID=Australia/Melbourne:20250315T100000
DTEND;TZID=Australia/Melbourne:20250315T170000
DTSTAMP:20260420T102606
CREATED:20241216T011649Z
LAST-MODIFIED:20241216T011649Z
UID:6998-1742032800-1742058000@www.vmaa.com.au
SUMMARY:Come Try Day
DESCRIPTION:Echuca Moama Model Aero Club Come Try Day. If you are interested in trying your hand at flying model aircraft then this is for you. \nSee flyer for details. Online registration via our Facebook page will be available closer to the date.
URL:https://www.vmaa.com.au/event/come-try-day/
LOCATION:EMMAC\, Watson Road\, Kanyapella\, Vic\, 3564\, Australia
CATEGORIES:Other
ATTACH;FMTTYPE=image/jpeg:https://www.vmaa.com.au/wp-content/uploads/2024/12/EMMAC-COME-TRY-2025-1.jpg
ORGANIZER;CN="EMMAC":MAILTO:fwest@bigpond.net.au
END:VEVENT
BEGIN:VEVENT
DTSTART;TZID=Australia/Melbourne:20250315T100000
DTEND;TZID=Australia/Melbourne:20250316T153000
DTSTAMP:20260420T102606
CREATED:20241110T103811Z
LAST-MODIFIED:20241110T103812Z
UID:6588-1742032800-1742139000@www.vmaa.com.au
SUMMARY:Warrnambool Model Aircraft Club FunFly
DESCRIPTION:Annual FunFly
URL:https://www.vmaa.com.au/event/warrnambool-model-aircraft-club-funfly/
LOCATION:WMAC\, 330 Officers Lane\, Koroit\, Vic\, 3282\, Australia
CATEGORIES:Fun Fly
ATTACH;FMTTYPE=image/jpeg:https://www.vmaa.com.au/wp-content/uploads/2024/11/Flyer-pilots-2025.jpg
ORGANIZER;CN="wmac":MAILTO:rodjan@bigpond.net.au
END:VEVENT
BEGIN:VEVENT
DTSTART;TZID=Australia/Melbourne:20250318T073000
DTEND;TZID=Australia/Melbourne:20250318T203000
DTSTAMP:20260420T102606
CREATED:20250221T084142Z
LAST-MODIFIED:20250228T022745Z
UID:7368-1742283000-1742329800@www.vmaa.com.au
SUMMARY:Webinar Series 2025 - Creating and Promoting a Great Flying Event
DESCRIPTION:Click here to register your attendance\nWebinar Series 2025 – Creating and Promoting a Great Flying Event.\nPresented by Andrew from Sill Marketing.  \nDo not miss this event.  \nIdeal for club committees or anyone who is involved in running events at your club. Thinking about running and event\, then this webinar is for you. \nThis webinar will go for about one hour and includes question time at the end of the presentation.  \nClick here to register NOW \n                   \n 
URL:https://www.vmaa.com.au/event/webinar-series-2025-how-to-promote-your-event/
LOCATION:Online Webinar\, Online\, Australia
CATEGORIES:Aero Sport Webinars
ATTACH;FMTTYPE=image/jpeg:https://www.vmaa.com.au/wp-content/uploads/2025/02/VMAA-Seminar-March-2025-1.jpeg
END:VEVENT
BEGIN:VEVENT
DTSTART;TZID=Australia/Melbourne:20250323T090000
DTEND;TZID=Australia/Melbourne:20250323T150000
DTSTAMP:20260420T102606
CREATED:20250308T072954Z
LAST-MODIFIED:20250308T072954Z
UID:7582-1742720400-1742742000@www.vmaa.com.au
SUMMARY:Show Us Ya Stick & Buy Swap Sell
DESCRIPTION:The Golden Planes Model Aircraft Club Sunday 23rd March \nAnother year and another show us ya stick fun fly.\nOnce again incorporating our Buy\, Swap & Sell day. \nBring ya planes and have a fly Or bring along your stuff to sell. \nFood and drink available on the day.
URL:https://www.vmaa.com.au/event/show-us-ya-stick-buy-swap-sell/
LOCATION:Golden PLanes Model Aircraft Club\, 276 Teesdale tip rd\, Teesdale\, VIC\, 3328\, Australia
CATEGORIES:Fun Fly
ATTACH;FMTTYPE=image/png:https://www.vmaa.com.au/wp-content/uploads/2025/03/stick25-fb.png
ORGANIZER;CN="Golden Planes Model Aircraft Club":MAILTO:thomasstarns@gmail.com
END:VEVENT
BEGIN:VEVENT
DTSTART;TZID=Australia/Melbourne:20250328T000000
DTEND;TZID=Australia/Melbourne:20250330T235959
DTSTAMP:20260420T102606
CREATED:20250121T042132Z
LAST-MODIFIED:20250121T042133Z
UID:7154-1743120000-1743379199@www.vmaa.com.au
SUMMARY:Avalon Airshow
DESCRIPTION:Avalon Australian International Airshow is back for 2025! \nFrom heart-pounding aerial stunts to the thrill of seeing cutting-edge aircraft up close\, plus lots of on the ground activations like drone racing\, carnival rides & a bigger & better kids zone\, there really is something for everyone. \nBring your friends\, your family\, or just yourself and don’t miss your chance to be part of the Avalon 2025. \nWe can’t wait to share another unforgettable airshow with you. \nThe VMAA will be attending the airshow\, hosting a marquee and promoting the sport of aeromodelling.\nHope to see you there.
URL:https://www.vmaa.com.au/event/avalon-airshow/
LOCATION:Avalon Airport\, 80 Beach Road\,\, Lara\, Victoria\, 3212\, Australia
CATEGORIES:Other
ATTACH;FMTTYPE=image/png:https://www.vmaa.com.au/wp-content/uploads/2025/01/Avalon-header.png
END:VEVENT
BEGIN:VEVENT
DTSTART;TZID=Australia/Melbourne:20250330T100000
DTEND;TZID=Australia/Melbourne:20250330T150000
DTSTAMP:20260420T102606
CREATED:20241203T074137Z
LAST-MODIFIED:20241203T074137Z
UID:6881-1743328800-1743346800@www.vmaa.com.au
SUMMARY:BRMFC Trawalla Fly-In
DESCRIPTION:Come and have relaxed fly with us at our great field.  Barbeque lunch\, hot and cold drinks available.  All types of aircraft welcome.
URL:https://www.vmaa.com.au/event/brmfc-trawalla-fly-in/
LOCATION:BRMFC\, Church Rd\, Trawalla\, Victoria\, 3373\, Australia
CATEGORIES:Fun Fly
ATTACH;FMTTYPE=image/png:https://www.vmaa.com.au/wp-content/uploads/2024/12/BRMFC_FlyIn_Mar2025_001.png
ORGANIZER;CN="BRMFC":MAILTO:secretary@brmfc.org.au
END:VEVENT
END:VCALENDAR