BEGIN:VCALENDAR
VERSION:2.0
PRODID:-//VMAA - ECPv6.15.14//NONSGML v1.0//EN
CALSCALE:GREGORIAN
METHOD:PUBLISH
X-ORIGINAL-URL:https://www.vmaa.com.au
X-WR-CALDESC:Events for VMAA
REFRESH-INTERVAL;VALUE=DURATION:PT1H
X-Robots-Tag:noindex
X-PUBLISHED-TTL:PT1H
BEGIN:VTIMEZONE
TZID:Australia/Melbourne
BEGIN:STANDARD
TZOFFSETFROM:+1100
TZOFFSETTO:+1000
TZNAME:AEST
DTSTART:20250405T160000
END:STANDARD
BEGIN:DAYLIGHT
TZOFFSETFROM:+1000
TZOFFSETTO:+1100
TZNAME:AEDT
DTSTART:20251004T160000
END:DAYLIGHT
BEGIN:STANDARD
TZOFFSETFROM:+1100
TZOFFSETTO:+1000
TZNAME:AEST
DTSTART:20260404T160000
END:STANDARD
BEGIN:DAYLIGHT
TZOFFSETFROM:+1000
TZOFFSETTO:+1100
TZNAME:AEDT
DTSTART:20261003T160000
END:DAYLIGHT
BEGIN:STANDARD
TZOFFSETFROM:+1100
TZOFFSETTO:+1000
TZNAME:AEST
DTSTART:20270403T160000
END:STANDARD
BEGIN:DAYLIGHT
TZOFFSETFROM:+1000
TZOFFSETTO:+1100
TZNAME:AEDT
DTSTART:20271002T160000
END:DAYLIGHT
END:VTIMEZONE
BEGIN:VEVENT
DTSTART;TZID=Australia/Melbourne:20261017T080000
DTEND;TZID=Australia/Melbourne:20261018T170000
DTSTAMP:20260421T014314
CREATED:20260128T210507Z
LAST-MODIFIED:20260128T210507Z
UID:8747-1792224000-1792342800@www.vmaa.com.au
SUMMARY:Echuca Aerobatic "Smackdown"
DESCRIPTION:Echuca Moama Model Aero Club Aerobatic “SmackDown 4 “\, 17th and 18th October 2026 is a fun fly event for all types of Aircraft. A Fun filled weekend of non-stop action that includes a light tower on Saturday night for foamy night flying shenanigans. Camping\, hot showers\, full canteen all weekend\, and a Saturday night dinner are all available. Come along and make a weekend of it in Echuca.
URL:https://www.vmaa.com.au/event/echuca-aerobatic-smackdown-2/
LOCATION:EMMAC\, Watson Road\, Kanyapella\, Vic\, 3564\, Australia
CATEGORIES:Fun Fly
ATTACH;FMTTYPE=image/jpeg:https://www.vmaa.com.au/wp-content/uploads/2026/01/SMACKDOWN-2026.jpg
ORGANIZER;CN="EMMAC":MAILTO:fwest@bigpond.net.au
END:VEVENT
BEGIN:VEVENT
DTSTART;TZID=Australia/Melbourne:20261114T080000
DTEND;TZID=Australia/Melbourne:20261115T170000
DTSTAMP:20260421T014314
CREATED:20260119T074007Z
LAST-MODIFIED:20260119T074007Z
UID:8728-1794643200-1794762000@www.vmaa.com.au
SUMMARY:"MossKosh" Annual Fun Fly
DESCRIPTION:Ararat and District Aeromodellers Club is again holding it’s annual MossKosh fun fly event
URL:https://www.vmaa.com.au/event/mosskosh-annual-fun-fly-2/
LOCATION:Ararat feild\, 240\, ARARAT\, VIC\, 3377\, Australia
CATEGORIES:Fun Fly
ATTACH;FMTTYPE=image/png:https://www.vmaa.com.au/wp-content/uploads/2026/01/MossKosh-2026.png
ORGANIZER;CN="ADAC":MAILTO:pimblott@optusnet.com.au
END:VEVENT
BEGIN:VEVENT
DTSTART;TZID=Australia/Melbourne:20261121T090000
DTEND;TZID=Australia/Melbourne:20261122T150000
DTSTAMP:20260421T014314
CREATED:20251214T023122Z
LAST-MODIFIED:20260410T082309Z
UID:8642-1795251600-1795359600@www.vmaa.com.au
SUMMARY:BRAG Fun & Float Fly 21-22 November 2026
DESCRIPTION:More details to follow
URL:https://www.vmaa.com.au/event/brag-fun-float-fly-21-22-november-2026/
LOCATION:BawBaw RC Club – BRAG Willow Grove\, 24 blue Rock Road\, Willow Grove\, Victoria\, 3823\, Australia
CATEGORIES:Float Fly,Fun Fly
ATTACH;FMTTYPE=image/png:https://www.vmaa.com.au/wp-content/uploads/2025/12/BRAG-LOGO-Large-scaled.png
ORGANIZER;CN="Brag Club":MAILTO:events@bawbawrc.com.au
END:VEVENT
END:VCALENDAR