BEGIN:VCALENDAR
VERSION:2.0
PRODID:-//VMAA - ECPv6.15.14//NONSGML v1.0//EN
CALSCALE:GREGORIAN
METHOD:PUBLISH
X-WR-CALNAME:VMAA
X-ORIGINAL-URL:https://www.vmaa.com.au
X-WR-CALDESC:Events for VMAA
REFRESH-INTERVAL;VALUE=DURATION:PT1H
X-Robots-Tag:noindex
X-PUBLISHED-TTL:PT1H
BEGIN:VTIMEZONE
TZID:Australia/Melbourne
BEGIN:STANDARD
TZOFFSETFROM:+1100
TZOFFSETTO:+1000
TZNAME:AEST
DTSTART:20230401T160000
END:STANDARD
BEGIN:DAYLIGHT
TZOFFSETFROM:+1000
TZOFFSETTO:+1100
TZNAME:AEDT
DTSTART:20230930T160000
END:DAYLIGHT
BEGIN:STANDARD
TZOFFSETFROM:+1100
TZOFFSETTO:+1000
TZNAME:AEST
DTSTART:20240406T160000
END:STANDARD
BEGIN:DAYLIGHT
TZOFFSETFROM:+1000
TZOFFSETTO:+1100
TZNAME:AEDT
DTSTART:20241005T160000
END:DAYLIGHT
BEGIN:STANDARD
TZOFFSETFROM:+1100
TZOFFSETTO:+1000
TZNAME:AEST
DTSTART:20250405T160000
END:STANDARD
BEGIN:DAYLIGHT
TZOFFSETFROM:+1000
TZOFFSETTO:+1100
TZNAME:AEDT
DTSTART:20251004T160000
END:DAYLIGHT
BEGIN:STANDARD
TZOFFSETFROM:+1100
TZOFFSETTO:+1000
TZNAME:AEST
DTSTART:20260404T160000
END:STANDARD
BEGIN:DAYLIGHT
TZOFFSETFROM:+1000
TZOFFSETTO:+1100
TZNAME:AEDT
DTSTART:20261003T160000
END:DAYLIGHT
END:VTIMEZONE
BEGIN:VEVENT
DTSTART;TZID=Australia/Melbourne:20250308T000000
DTEND;TZID=Australia/Melbourne:20250309T235959
DTSTAMP:20260420T174015
CREATED:20241128T202808Z
LAST-MODIFIED:20241128T202808Z
UID:6835-1741392000-1741564799@www.vmaa.com.au
SUMMARY:Bairnsdale Action Scale Rally
DESCRIPTION:Join us for an exciting weekend at the Bairsdale Action Scale Rally! Bring your favorite scale models\, enjoy delicious food\, take part in raffles\, and compete for the prestigious Pilot’s Choice Award. Make it a weekend to remember!\nPilots $25 entry (Door prize raffle for pilots) \npublic -gold coin donation \ncatering onsite\, camping encouraged\, accessible showers and toilets.🚽 o
URL:https://www.vmaa.com.au/event/bairnsdale-action-scale-rally/
LOCATION:BADMAC\, 1125 Bengworden Rd\,\, Goon Nure\, Victoria\, 3875\, Australia
CATEGORIES:Fun Fly,Scale
ATTACH;FMTTYPE=image/jpeg:https://www.vmaa.com.au/wp-content/uploads/2024/11/IMG_4560-scaled.jpeg
END:VEVENT
BEGIN:VEVENT
DTSTART;TZID=Australia/Melbourne:20250302T090000
DTEND;TZID=Australia/Melbourne:20250302T150000
DTSTAMP:20260420T174015
CREATED:20250214T095434Z
LAST-MODIFIED:20250214T095435Z
UID:7274-1740906000-1740927600@www.vmaa.com.au
SUMMARY:Melton Car Boot Sale and Fly In
DESCRIPTION:Bring any modelling gear and aircraft you wish to sell at the Melton Model Aircraft Association Car Boot Sale. \nWhile your at it bring a model to fly as well. \nGrab a bargain and take it for a fly
URL:https://www.vmaa.com.au/event/melton-car-boot-sale-and-fly-in/
LOCATION:Melton Model Aircraft Association\, 180 Faulkners Road\, Mount Cottrell\, VIctoria\, 3024\, Australia
CATEGORIES:Other
ATTACH;FMTTYPE=image/jpeg:https://www.vmaa.com.au/wp-content/uploads/2025/02/Melton-Car-Boot-Sale-2025.jpg
ORGANIZER;CN="MMAA Secretary":MAILTO:secretary@mmaa.org.au
END:VEVENT
BEGIN:VEVENT
DTSTART;TZID=Australia/Melbourne:20250225T080000
DTEND;TZID=Australia/Melbourne:20250225T170000
DTSTAMP:20260420T174015
CREATED:20250221T090409Z
LAST-MODIFIED:20250221T090828Z
UID:7381-1740470400-1740502800@www.vmaa.com.au
SUMMARY:Test event
DESCRIPTION:test
URL:https://www.vmaa.com.au/event/test-event/
LOCATION:Avalon Airport\, 80 Beach Road\,\, Lara\, Victoria\, 3212\, Australia
CATEGORIES:Float Fly
END:VEVENT
BEGIN:VEVENT
DTSTART;TZID=Australia/Melbourne:20250222T090000
DTEND;TZID=Australia/Melbourne:20250223T170000
DTSTAMP:20260420T174015
CREATED:20241105T231040Z
LAST-MODIFIED:20250219T024112Z
UID:6488-1740214800-1740330000@www.vmaa.com.au
SUMMARY:CANCELLED - Corangamite Model Aircraft Club Annual Fun Fly
DESCRIPTION:CANCELLED DUE  TO POOR WEATHER \nCorangamite Model Aircraft Club would like all MAAA Affiliated pilot to come and enjoy a relaxed weekend of flying at the Camperdown Racecourse. Food and drinks available. Hope to see you there!
URL:https://www.vmaa.com.au/event/corangamite-model-aircraft-club-annual-fun-fly/
LOCATION:CMAC\, Racecourse Road\, Camperdown\, Victoria\, 3260\, Australia
CATEGORIES:Fun Fly
ATTACH;FMTTYPE=image/jpeg:https://www.vmaa.com.au/wp-content/uploads/2024/11/Fun-Fly-2025.jpg
ORGANIZER;CN="Corangamite Model Aircraft Club":MAILTO:corangamitemac@gmail.com
END:VEVENT
BEGIN:VEVENT
DTSTART;TZID=Australia/Melbourne:20250216T090000
DTEND;TZID=Australia/Melbourne:20250216T160000
DTSTAMP:20260420T174015
CREATED:20250109T001456Z
LAST-MODIFIED:20250109T001457Z
UID:7063-1739696400-1739721600@www.vmaa.com.au
SUMMARY:ASA - SCALE COMP
DESCRIPTION:The ASA are proud to kick off our first competition of the year with an one day event at P&DARCS\, Victoria.  Contest will include F4H and C\, along with flying only\, jets and our foamie classes!  Great way to get back into some competition scale flying. Reach out to the Contest Director\, Melissa Law @ ausscalesecretary@gmail.com for further information and registration details.
URL:https://www.vmaa.com.au/event/asa-scale-comp/
LOCATION:P&DARCS\, 30 Fowler Rd\,\, Cardinia\, Victoria\, 3978\, Australia
CATEGORIES:Scale
ATTACH;FMTTYPE=image/jpeg:https://www.vmaa.com.au/wp-content/uploads/2025/01/monty.jpg
ORGANIZER;CN="Australian Scale Aerosport - ASA":MAILTO:ausscalesecretary@gmail.com
END:VEVENT
BEGIN:VEVENT
DTSTART;TZID=Australia/Melbourne:20250208T000000
DTEND;TZID=Australia/Melbourne:20250209T235959
DTSTAMP:20260420T174015
CREATED:20250206T030525Z
LAST-MODIFIED:20250206T030526Z
UID:7206-1738972800-1739145599@www.vmaa.com.au
SUMMARY:NORTHERN FLYING GROUP IMAC
DESCRIPTION:The first event to kick off the 2025 IMAC season in Victoria is scheduled for Northern Flying Group\, Located 50minutes North of Melbourne. Come and Join the ASAA hosted event at Northern Flying group.
URL:https://www.vmaa.com.au/event/northern-flying-group-imac/
LOCATION:NFG – Northern Flying Group\, 214 Quayles Rd\,\, Darraweit Guim\, VIC\, 3756\, Australia
CATEGORIES:IMAC
ATTACH;FMTTYPE=image/png:https://www.vmaa.com.au/wp-content/uploads/2025/02/ASAA-IMAC-IMAGE.png
ORGANIZER;CN="Australian Scale Aerobatics Association-ASAA":MAILTO:presidnet@asaa.au
END:VEVENT
BEGIN:VEVENT
DTSTART;TZID=Australia/Melbourne:20250125T000000
DTEND;TZID=Australia/Melbourne:20250126T235959
DTSTAMP:20260420T174015
CREATED:20241125T104809Z
LAST-MODIFIED:20241125T104810Z
UID:6677-1737763200-1737935999@www.vmaa.com.au
SUMMARY:Bairnsdale ‘Glide In’
DESCRIPTION:This will be Bairnsdale’s second Glide In event.  All gliding disciplines welcome\, EP\, DLG\, winch launch or towed gliders with tug planes available.\nA $200 DA voucher offered as a pilot’s door prize.\nA spot landing competition will decide the 2025 Glide In Champion.\nCatering onsite both Saturday and Sunday.\nAccessible toilets and showers.\nAmple onsite camping area.\nGates open Thursday through to Wednesday.
URL:https://www.vmaa.com.au/event/bairnsdale-glide-in/
LOCATION:BADMAC\, 1125 Bengworden Rd\,\, Goon Nure\, Victoria\, 3875\, Australia
CATEGORIES:Fun Fly
ATTACH;FMTTYPE=image/jpeg:https://www.vmaa.com.au/wp-content/uploads/2024/11/BADMAC-Glider-Event-2025-v2-scaled.jpeg
END:VEVENT
BEGIN:VEVENT
DTSTART;TZID=Australia/Melbourne:20241123T090000
DTEND;TZID=Australia/Melbourne:20241124T170000
DTSTAMP:20260420T174015
CREATED:20241018T103610Z
LAST-MODIFIED:20241018T103611Z
UID:6237-1732352400-1732467600@www.vmaa.com.au
SUMMARY:HMAC Annual Fun Fly & Swap Meet Weekend
DESCRIPTION:Come and enjoy a great weekend of flying and swap meet at the Hamilton Club.Flying from 9.00 am till dusk.Great amenities\, and BBQ available.Contact Enzo for more detailsHope to see you there.
URL:https://www.vmaa.com.au/event/hmac-annual-fun-fly-swap-meet-weekend/
LOCATION:HMAC\, 1145 Branxholme-Byaduk Road\, Byadak North\, Vic\, Australia
CATEGORIES:Fun Fly
ATTACH;FMTTYPE=image/png:https://www.vmaa.com.au/wp-content/uploads/2024/10/Fun-Fly-Hamilton-FLYER-2024-scaled.png
ORGANIZER;CN="Enzo Diana":MAILTO:Enzd@bigpond.com
END:VEVENT
BEGIN:VEVENT
DTSTART;TZID=Australia/Melbourne:20241123T090000
DTEND;TZID=Australia/Melbourne:20241124T170000
DTSTAMP:20260420T174015
CREATED:20241016T034922Z
LAST-MODIFIED:20241017T210126Z
UID:6113-1732352400-1732467600@www.vmaa.com.au
SUMMARY:BRAG Fun & Float Fly 
DESCRIPTION:The BRAG RC Model Plane Club is pleased to announce the second BRAG Fun & Float Fly to be held on the 23rd & 24th of November 2024.Another great event at the BRAG club with 4 trophies up for grabs. \n(If the weather is not suitable follow our Facebook pages for updates) \nThe club would like to invite all VMAA – MAAA affiliate clubs & their members to visit and enjoy our facilities for this enjoyable event where we have sessions of flying off the Strip and then Float flying. A great weekend\, so we hope to see you there.
URL:https://www.vmaa.com.au/event/brag-fun-float-fly/
LOCATION:BawBaw RC Club – BRAG Willow Grove\, 24 blue Rock Road\, Willow Grove\, Victoria\, 3823\, Australia
CATEGORIES:Float Fly,Fun Fly
ATTACH;FMTTYPE=image/jpeg:https://www.vmaa.com.au/wp-content/uploads/2024/10/Flyer-image-BRAG-fun-float-fly-2024-v5.jpg
ORGANIZER;CN="Brag Club":MAILTO:events@bawbawrc.com.au
END:VEVENT
BEGIN:VEVENT
DTSTART;TZID=Australia/Melbourne:20241110T090000
DTEND;TZID=Australia/Melbourne:20241110T160000
DTSTAMP:20260420T174015
CREATED:20241025T232035Z
LAST-MODIFIED:20241025T232035Z
UID:6365-1731229200-1731254400@www.vmaa.com.au
SUMMARY:Scratch and Built Rally
DESCRIPTION:Attention Scratch or Kit Builders of Model Aircraft\, and those interested in the craft of building and flying model aircraft. The P&DARCS Club is hosting an event for those that build model aircraft. Please no ARFs\, this is to celebrate the skill of the model builder.\nGreat trophies for different types as well as prizes for participants. Part built projects are most welcome. Come along with your friends and see some great handmade models fly and on display.
URL:https://www.vmaa.com.au/event/scratch-and-built-rally/
LOCATION:P&DARCS\, 30 Fowler Rd\,\, Cardinia\, Victoria\, 3978\, Australia
CATEGORIES:Other
ATTACH;FMTTYPE=image/jpeg:https://www.vmaa.com.au/wp-content/uploads/2024/10/RC-plane-kit.jpg
END:VEVENT
BEGIN:VEVENT
DTSTART;TZID=Australia/Melbourne:20241102T080000
DTEND;TZID=Australia/Melbourne:20241103T160000
DTSTAMP:20260420T174015
CREATED:20241016T095640Z
LAST-MODIFIED:20241016T095640Z
UID:6154-1730534400-1730649600@www.vmaa.com.au
SUMMARY:Warbirds over Bairnsdale
DESCRIPTION:Bairnsdale and District Model Aero Club are hosting the third Warbirds over Bairnsdale event on the Melbourne Cup Long Weekend. The event will run over the weekend\, but the field will be open from the Thursday through to Tuesday.\nPilot entry is $25. Public entry is by gold coin donation.\nThere will be onsite catering all weekend. EFTPOS available.\nAll military aircraft welcome with pilot’s choice awards for best propeller monoplane\, best biplane and best other military aircraft.\nThere will be a raffle over the weekend and a pilot’s draw for entered pilots.\nThe club has excellent camping facilities for pilots\, including toilets\, hot showers\, cooking facilities and a great fire ring for evening debriefing.
URL:https://www.vmaa.com.au/event/warbirds-over-bairnsdale/
LOCATION:BADMAC\, 1125 Bengworden Rd\,\, Goon Nure\, Victoria\, 3875\, Australia
CATEGORIES:Fun Fly
ATTACH;FMTTYPE=image/jpeg:https://www.vmaa.com.au/wp-content/uploads/2024/10/Warbirds-Over-Bairnsdale-2024-scaled.jpg
END:VEVENT
BEGIN:VEVENT
DTSTART;TZID=Australia/Melbourne:20241019T100000
DTEND;TZID=Australia/Melbourne:20241019T140000
DTSTAMP:20260420T174015
CREATED:20241014T070659Z
LAST-MODIFIED:20241014T200321Z
UID:5980-1729332000-1729346400@www.vmaa.com.au
SUMMARY:VARMS Weird Model Fun Fly
DESCRIPTION:Bring your weird model or anything different to fly on the day.Entry\, which is free\, includes a free sausage.Gates open from 9am for a 10am start.Drinks and Ice-creams available to purchase on the day
URL:https://www.vmaa.com.au/event/varms-weird-model-fun-fly/
LOCATION:VARMS\, 1405 Stud Road\, Rowville\, Victoria\, 3178\, Australia
CATEGORIES:Fun Fly
ATTACH;FMTTYPE=image/jpeg:https://www.vmaa.com.au/wp-content/uploads/2024/10/VARMS-Halloween-Weird-RC-Fun-Fly-scaled.jpg
ORGANIZER;CN="Ken Madill":MAILTO:president@varms.org.au
END:VEVENT
BEGIN:VEVENT
DTSTART;TZID=Australia/Melbourne:20241012T080000
DTEND;TZID=Australia/Melbourne:20241013T170000
DTSTAMP:20260420T174015
CREATED:20241004T005935Z
LAST-MODIFIED:20241008T180249Z
UID:1278-1728720000-1728838800@www.vmaa.com.au
SUMMARY:VMAA Festival of Flight - Bairnsdale 2024
DESCRIPTION:VMAA Festival of Flight – Bairnsdale October 12-13\nWe are hosting the Victorian Model Aircraft Association’s Festival of Flight. This two day event is open to the public and to all MAAA registered pilots. We are celebrating all types of model aircraft and welcome all disciplines to showcase our great sport. The VMAA are providing show bags to all entered pilots and we anticipate lots of prizes for pilots. Generously sponsored by Desert Aircraft Australia and Advanced Radio. Pilot entry is $25 for the weekend and the public are asked for a gold coin donation. Catering will be available all weekend. Camping is $10 per night.
URL:https://www.vmaa.com.au/event/vmaa-festival-of-flight-bairnsdale-2024/
LOCATION:BADMAC\, 1125 Bengworden Rd\,\, Goon Nure\, Victoria\, 3875\, Australia
CATEGORIES:Festival of Flight
ATTACH;FMTTYPE=image/jpeg:https://www.vmaa.com.au/wp-content/uploads/2024/09/VMAA-Festival-of-flight-BADMAC.jpg
END:VEVENT
END:VCALENDAR