BEGIN:VCALENDAR
VERSION:2.0
PRODID:-//VMAA - ECPv6.15.14//NONSGML v1.0//EN
CALSCALE:GREGORIAN
METHOD:PUBLISH
X-ORIGINAL-URL:https://www.vmaa.com.au
X-WR-CALDESC:Events for VMAA
REFRESH-INTERVAL;VALUE=DURATION:PT1H
X-Robots-Tag:noindex
X-PUBLISHED-TTL:PT1H
BEGIN:VTIMEZONE
TZID:Australia/Melbourne
BEGIN:STANDARD
TZOFFSETFROM:+1100
TZOFFSETTO:+1000
TZNAME:AEST
DTSTART:20230401T160000
END:STANDARD
BEGIN:DAYLIGHT
TZOFFSETFROM:+1000
TZOFFSETTO:+1100
TZNAME:AEDT
DTSTART:20230930T160000
END:DAYLIGHT
BEGIN:STANDARD
TZOFFSETFROM:+1100
TZOFFSETTO:+1000
TZNAME:AEST
DTSTART:20240406T160000
END:STANDARD
BEGIN:DAYLIGHT
TZOFFSETFROM:+1000
TZOFFSETTO:+1100
TZNAME:AEDT
DTSTART:20241005T160000
END:DAYLIGHT
BEGIN:STANDARD
TZOFFSETFROM:+1100
TZOFFSETTO:+1000
TZNAME:AEST
DTSTART:20250405T160000
END:STANDARD
BEGIN:DAYLIGHT
TZOFFSETFROM:+1000
TZOFFSETTO:+1100
TZNAME:AEDT
DTSTART:20251004T160000
END:DAYLIGHT
BEGIN:STANDARD
TZOFFSETFROM:+1100
TZOFFSETTO:+1000
TZNAME:AEST
DTSTART:20260404T160000
END:STANDARD
BEGIN:DAYLIGHT
TZOFFSETFROM:+1000
TZOFFSETTO:+1100
TZNAME:AEDT
DTSTART:20261003T160000
END:DAYLIGHT
BEGIN:STANDARD
TZOFFSETFROM:+1100
TZOFFSETTO:+1000
TZNAME:AEST
DTSTART:20270403T160000
END:STANDARD
BEGIN:DAYLIGHT
TZOFFSETFROM:+1000
TZOFFSETTO:+1100
TZNAME:AEDT
DTSTART:20271002T160000
END:DAYLIGHT
END:VTIMEZONE
BEGIN:VEVENT
DTSTART;TZID=Australia/Melbourne:20260418T090000
DTEND;TZID=Australia/Melbourne:20260419T150000
DTSTAMP:20260420T183407
CREATED:20251214T023138Z
LAST-MODIFIED:20260410T083130Z
UID:8637-1776502800-1776610800@www.vmaa.com.au
SUMMARY:Blue Rock Float Fly 18-19 April 2026
DESCRIPTION:BLUE ROCK FLOAT FLY 2026 \nEnjoy the Sport of RC Plane Flying at its best off the water.\nWhen: Saturday to SUNDAY April 18-19th 2026 \nWhere: Blue Rock Road\, Willow Grove Vic. \nThe BRAG RC Model Plane Club is pleased to announce the fourth BLUE ROCK Float Fly to be held on the 18th to the 19th of April 2026 \n(If the weather is not suitable follow our Facebook pages for updates) \nhttps://www.bawbawrc.com.au/i/2026-april-18-19-blue-rock-float-fly   \nThe club would like to invite all VMAA – MAAA affiliate clubs & their members to visit and enjoy our facilities for this enjoyable event where we enjoy the excitement of float flying and the occasional session of flying off the Strip. A great weekend\, so we hope to see you there.
URL:https://www.vmaa.com.au/event/blue-rock-float-fly-18-19-april-2026/
LOCATION:BawBaw RC Club – BRAG Willow Grove\, 24 blue Rock Road\, Willow Grove\, Victoria\, 3823\, Australia
CATEGORIES:Float Fly
ATTACH;FMTTYPE=image/jpeg:https://www.vmaa.com.au/wp-content/uploads/2025/12/FLYER-BLUE-ROCK-Float-Fly-2026-Sponsored-V3.jpg
ORGANIZER;CN="Brag Club":MAILTO:events@bawbawrc.com.au
END:VEVENT
BEGIN:VEVENT
DTSTART;TZID=Australia/Melbourne:20251122T080000
DTEND;TZID=Australia/Melbourne:20251123T150000
DTSTAMP:20260420T183407
CREATED:20250508T033929Z
LAST-MODIFIED:20250508T033929Z
UID:7927-1763798400-1763910000@www.vmaa.com.au
SUMMARY:BRAG Fun & Float Fly 2025
DESCRIPTION:The BRAG RC Model Plane Club is pleased to announce the third BRAG Fun & Float Fly to be held on the 22rd & 23rd of November 2025.\nAnother great event at the BRAG club with 4 trophies up for grabs. \n(If the weather is not suitable follow our Facebook pages for updates) \nThe club would like to invite all VMAA – MAAA affiliate clubs & their members to visit and enjoy our facilities for this enjoyable event where we have sessions of flying off the Strip and then Float flying. A great weekend\, so we hope to see you there.
URL:https://www.vmaa.com.au/event/brag-fun-float-fly-2025/
LOCATION:BawBaw RC Club – BRAG Willow Grove\, 24 blue Rock Road\, Willow Grove\, Victoria\, 3823\, Australia
CATEGORIES:Float Fly,Fun Fly
ATTACH;FMTTYPE=image/jpeg:https://www.vmaa.com.au/wp-content/uploads/2025/05/FLYER-BRAG-Fun-Float-Fly-2025-Sponsored-V1.jpg
ORGANIZER;CN="Brag Club":MAILTO:events@bawbawrc.com.au
END:VEVENT
BEGIN:VEVENT
DTSTART;VALUE=DATE:20251004
DTEND;VALUE=DATE:20251006
DTSTAMP:20260420T183407
CREATED:20250522T210119Z
LAST-MODIFIED:20250930T092333Z
UID:7992-1759536000-1759708799@www.vmaa.com.au
SUMMARY:TCMAC Seaplane Float Fly – Lake Hume - CANCELLED
DESCRIPTION:CANCELLED \nThere’s something truly special about a weekend spent with fellow flyers at Lake Hume. It’s more than just seaplanes dancing on the water—it’s the laughter\, the teamwork\, and the friendships that make it unforgettable. \nWith the lake as our runway and the sky as our limit\, we come together to share not just a hobby\, but a passion. A full canteen keeps everyone fuelled throughout the weekend\, and there’s a wide range of accommodation to suit every taste and budget. \nHere’s to the joy of flight\, the sparkle of Lake Hume\, and the spirit of TCMAC that continues to soar. \nPilot registration is available now on our website—click the link below to make sure you don’t miss out!
URL:https://www.vmaa.com.au/event/tcmac-seaplane-float-fly-lake-hume/
LOCATION:Twin Cities Model Aero Club\, 132 Central Reserve Road\, Ettamogah\, New South Wales\, 2640\, Australia
CATEGORIES:Float Fly
ATTACH;FMTTYPE=image/jpeg:https://www.vmaa.com.au/wp-content/uploads/2025/05/seaplane2025.jpg
ORGANIZER;CN="TCMAC":MAILTO:events@tcmac.com.au
END:VEVENT
BEGIN:VEVENT
DTSTART;TZID=Australia/Melbourne:20250607T080000
DTEND;TZID=Australia/Melbourne:20250608T170000
DTSTAMP:20260420T183407
CREATED:20241205T101905Z
LAST-MODIFIED:20241205T101905Z
UID:6917-1749283200-1749402000@www.vmaa.com.au
SUMMARY:Lake Bolac Annual Float Fly
DESCRIPTION:Annual float fly held by Ararat and District Aeromodellers Club at Lake Bolac. Onsite facilities include limited camping\, toilet and showers available\, hot food and cold drinks available. Close to caravan park and shops.Great weekend\, great facilities and great views.
URL:https://www.vmaa.com.au/event/lake-bolac-annual-float-fly/
LOCATION:Lake Bolac\, Frontage Road\, Lake Bolac\, Vic\, 3351\, Australia
CATEGORIES:Float Fly
ATTACH;FMTTYPE=image/jpeg:https://www.vmaa.com.au/wp-content/uploads/2024/12/IMG_2024-06-08-12-21-20-431.jpg
ORGANIZER;CN="ADAC":MAILTO:pimblott@optusnet.com.au
END:VEVENT
BEGIN:VEVENT
DTSTART;TZID=Australia/Melbourne:20250425T090000
DTEND;TZID=Australia/Melbourne:20250427T160000
DTSTAMP:20260420T183407
CREATED:20241229T210605Z
LAST-MODIFIED:20250327T090125Z
UID:7042-1745571600-1745769600@www.vmaa.com.au
SUMMARY:Blue Rock Float Fly 2025
DESCRIPTION:When: Saturday and Sunday April 25\, 26 & 27 2024 \nWhere: Willow Grove Vic. See map below \nThe BRAG RC Model Plane Club is pleased to announce the Third ever Blue Rock Float Fly to be held on the 25th\, 26th and 27th of April 2024. \n(If the weather is not suitable follow our Facebook pages for updates) \nThe club would like to invite all VMAA – MAAA affiliate clubs & their members to visit and enjoy our facilities and be part of the event.Camping availableCatering availableMore details to followVisit our website for more details \nBawbaw Radiomodellers Association Gippsland Inc. \n 
URL:https://www.vmaa.com.au/event/blue-rock-float-fly-2025/
LOCATION:BawBaw RC Club – BRAG Willow Grove\, 24 blue Rock Road\, Willow Grove\, Victoria\, 3823\, Australia
CATEGORIES:Float Fly
ATTACH;FMTTYPE=image/jpeg:https://www.vmaa.com.au/wp-content/uploads/2024/12/FLYER-BLUE-ROCK-Float-Fly-2025-Sponsored-NEW-LAYOUT-V4.jpg
ORGANIZER;CN="Brag Club":MAILTO:events@bawbawrc.com.au
END:VEVENT
BEGIN:VEVENT
DTSTART;TZID=Australia/Melbourne:20250225T080000
DTEND;TZID=Australia/Melbourne:20250225T170000
DTSTAMP:20260420T183407
CREATED:20250221T090409Z
LAST-MODIFIED:20250221T090828Z
UID:7381-1740470400-1740502800@www.vmaa.com.au
SUMMARY:Test event
DESCRIPTION:test
URL:https://www.vmaa.com.au/event/test-event/
LOCATION:Avalon Airport\, 80 Beach Road\,\, Lara\, Victoria\, 3212\, Australia
CATEGORIES:Float Fly
END:VEVENT
BEGIN:VEVENT
DTSTART;TZID=Australia/Melbourne:20241123T090000
DTEND;TZID=Australia/Melbourne:20241124T170000
DTSTAMP:20260420T183407
CREATED:20241016T034922Z
LAST-MODIFIED:20241017T210126Z
UID:6113-1732352400-1732467600@www.vmaa.com.au
SUMMARY:BRAG Fun & Float Fly 
DESCRIPTION:The BRAG RC Model Plane Club is pleased to announce the second BRAG Fun & Float Fly to be held on the 23rd & 24th of November 2024.Another great event at the BRAG club with 4 trophies up for grabs. \n(If the weather is not suitable follow our Facebook pages for updates) \nThe club would like to invite all VMAA – MAAA affiliate clubs & their members to visit and enjoy our facilities for this enjoyable event where we have sessions of flying off the Strip and then Float flying. A great weekend\, so we hope to see you there.
URL:https://www.vmaa.com.au/event/brag-fun-float-fly/
LOCATION:BawBaw RC Club – BRAG Willow Grove\, 24 blue Rock Road\, Willow Grove\, Victoria\, 3823\, Australia
CATEGORIES:Float Fly,Fun Fly
ATTACH;FMTTYPE=image/jpeg:https://www.vmaa.com.au/wp-content/uploads/2024/10/Flyer-image-BRAG-fun-float-fly-2024-v5.jpg
ORGANIZER;CN="Brag Club":MAILTO:events@bawbawrc.com.au
END:VEVENT
END:VCALENDAR