BEGIN:VCALENDAR
VERSION:2.0
PRODID:-//VMAA - ECPv6.15.14//NONSGML v1.0//EN
CALSCALE:GREGORIAN
METHOD:PUBLISH
X-ORIGINAL-URL:https://www.vmaa.com.au
X-WR-CALDESC:Events for VMAA
REFRESH-INTERVAL;VALUE=DURATION:PT1H
X-Robots-Tag:noindex
X-PUBLISHED-TTL:PT1H
BEGIN:VTIMEZONE
TZID:Australia/Melbourne
BEGIN:STANDARD
TZOFFSETFROM:+1100
TZOFFSETTO:+1000
TZNAME:AEST
DTSTART:20250405T160000
END:STANDARD
BEGIN:DAYLIGHT
TZOFFSETFROM:+1000
TZOFFSETTO:+1100
TZNAME:AEDT
DTSTART:20251004T160000
END:DAYLIGHT
BEGIN:STANDARD
TZOFFSETFROM:+1100
TZOFFSETTO:+1000
TZNAME:AEST
DTSTART:20260404T160000
END:STANDARD
BEGIN:DAYLIGHT
TZOFFSETFROM:+1000
TZOFFSETTO:+1100
TZNAME:AEDT
DTSTART:20261003T160000
END:DAYLIGHT
BEGIN:STANDARD
TZOFFSETFROM:+1100
TZOFFSETTO:+1000
TZNAME:AEST
DTSTART:20270403T160000
END:STANDARD
BEGIN:DAYLIGHT
TZOFFSETFROM:+1000
TZOFFSETTO:+1100
TZNAME:AEDT
DTSTART:20271002T160000
END:DAYLIGHT
END:VTIMEZONE
BEGIN:VEVENT
DTSTART;TZID=Australia/Melbourne:20260606T080000
DTEND;TZID=Australia/Melbourne:20260607T170000
DTSTAMP:20260420T152632
CREATED:20260119T073944Z
LAST-MODIFIED:20260119T073944Z
UID:8723-1780732800-1780851600@www.vmaa.com.au
SUMMARY:Lake Bolac Annual Float Fly
DESCRIPTION:Ararat and District Aeromodellers Club is once again holding it’s annual float fly at Lake Bolac
URL:https://www.vmaa.com.au/event/lake-bolac-annual-float-fly-2/
LOCATION:Lake Bolac\, Frontage Road\, Lake Bolac\, Vic\, 3351\, Australia
CATEGORIES:Float Fly
ATTACH;FMTTYPE=image/png:https://www.vmaa.com.au/wp-content/uploads/2026/01/Float-fly-2026.png
ORGANIZER;CN="ADAC":MAILTO:pimblott@optusnet.com.au
END:VEVENT
END:VCALENDAR