BEGIN:VCALENDAR
VERSION:2.0
PRODID:-//VMAA - ECPv6.15.14//NONSGML v1.0//EN
CALSCALE:GREGORIAN
METHOD:PUBLISH
X-WR-CALNAME:VMAA
X-ORIGINAL-URL:https://www.vmaa.com.au
X-WR-CALDESC:Events for VMAA
REFRESH-INTERVAL;VALUE=DURATION:PT1H
X-Robots-Tag:noindex
X-PUBLISHED-TTL:PT1H
BEGIN:VTIMEZONE
TZID:Australia/Melbourne
BEGIN:STANDARD
TZOFFSETFROM:+1100
TZOFFSETTO:+1000
TZNAME:AEST
DTSTART:20250405T160000
END:STANDARD
BEGIN:DAYLIGHT
TZOFFSETFROM:+1000
TZOFFSETTO:+1100
TZNAME:AEDT
DTSTART:20251004T160000
END:DAYLIGHT
BEGIN:STANDARD
TZOFFSETFROM:+1100
TZOFFSETTO:+1000
TZNAME:AEST
DTSTART:20260404T160000
END:STANDARD
BEGIN:DAYLIGHT
TZOFFSETFROM:+1000
TZOFFSETTO:+1100
TZNAME:AEDT
DTSTART:20261003T160000
END:DAYLIGHT
BEGIN:STANDARD
TZOFFSETFROM:+1100
TZOFFSETTO:+1000
TZNAME:AEST
DTSTART:20270403T160000
END:STANDARD
BEGIN:DAYLIGHT
TZOFFSETFROM:+1000
TZOFFSETTO:+1100
TZNAME:AEDT
DTSTART:20271002T160000
END:DAYLIGHT
END:VTIMEZONE
BEGIN:VEVENT
DTSTART;TZID=Australia/Melbourne:20260319T083000
DTEND;TZID=Australia/Melbourne:20260322T170000
DTSTAMP:20260420T135310
CREATED:20251219T225919Z
LAST-MODIFIED:20251219T225919Z
UID:8674-1773909000-1774198800@www.vmaa.com.au
SUMMARY:Wangaratta Jets 2026
DESCRIPTION:Wangjets (Wangaratta Jets) is the VJAA’s premier radio-controller turbine gathering in Victoria\, organised by the Victorian Jet Aerosport Association (VJAA). It brings together enthusiasts from across the country to fly turbine-powered model jets\, share experiences\, and enjoy a social weekend at Wangaratta Airport. We look forward to seeing you there. \nMore information will be published via Teamapp and Facebook in the lead-up to the event.
URL:https://www.vmaa.com.au/event/wangaratta-jets-2026/
LOCATION:Wangaratta Airport\, Brian Higgins Drive\, Laceby\, Victoria\, 3678\, Australia
ATTACH;FMTTYPE=image/jpeg:https://www.vmaa.com.au/wp-content/uploads/2025/12/Wangjets2026-Cropped.jpg
ORGANIZER;CN="VJAA":MAILTO:secretary@vjaa.org.au
END:VEVENT
END:VCALENDAR