BEGIN:VCALENDAR
VERSION:2.0
PRODID:-//VMAA - ECPv6.15.14//NONSGML v1.0//EN
CALSCALE:GREGORIAN
METHOD:PUBLISH
X-WR-CALNAME:VMAA
X-ORIGINAL-URL:https://www.vmaa.com.au
X-WR-CALDESC:Events for VMAA
REFRESH-INTERVAL;VALUE=DURATION:PT1H
X-Robots-Tag:noindex
X-PUBLISHED-TTL:PT1H
BEGIN:VTIMEZONE
TZID:Australia/Melbourne
BEGIN:STANDARD
TZOFFSETFROM:+1100
TZOFFSETTO:+1000
TZNAME:AEST
DTSTART:20240406T160000
END:STANDARD
BEGIN:DAYLIGHT
TZOFFSETFROM:+1000
TZOFFSETTO:+1100
TZNAME:AEDT
DTSTART:20241005T160000
END:DAYLIGHT
BEGIN:STANDARD
TZOFFSETFROM:+1100
TZOFFSETTO:+1000
TZNAME:AEST
DTSTART:20250405T160000
END:STANDARD
BEGIN:DAYLIGHT
TZOFFSETFROM:+1000
TZOFFSETTO:+1100
TZNAME:AEDT
DTSTART:20251004T160000
END:DAYLIGHT
BEGIN:STANDARD
TZOFFSETFROM:+1100
TZOFFSETTO:+1000
TZNAME:AEST
DTSTART:20260404T160000
END:STANDARD
BEGIN:DAYLIGHT
TZOFFSETFROM:+1000
TZOFFSETTO:+1100
TZNAME:AEDT
DTSTART:20261003T160000
END:DAYLIGHT
END:VTIMEZONE
BEGIN:VEVENT
DTSTART;TZID=Australia/Melbourne:20251017T120000
DTEND;TZID=Australia/Melbourne:20251019T170000
DTSTAMP:20260420T222314
CREATED:20250903T205712Z
LAST-MODIFIED:20250903T205712Z
UID:8160-1760702400-1760893200@www.vmaa.com.au
SUMMARY:Mount Wallace Festival of Flight
DESCRIPTION:The event is designed to bring together all disciplines for a weekend of fun with like-minded people who enjoy model aviation. Whether a foamie\, glider\, trainer or a turbine jet\, all are welcome to fly off our beautiful grassed runway. There is ample space for parking and camping\, with new toilets and showers being installed to ensure comfort for all. A canteen will be on offer to keep everyone fed and watered. \nThe event is part of the VMAA Festival of Flight initiative\, promoting aeromodelling in every aspect. The Club wishes to thank the VMAA for their support and encouragement.
URL:https://www.vmaa.com.au/event/mount-wallace-festival-of-flight/
LOCATION:mount Wallace State Field\, 187 Brisbane Ranges Road\, Mt Wallace\, Victoria\, 3342\, Australia
CATEGORIES:Festival of Flight
ATTACH;FMTTYPE=image/jpeg:https://www.vmaa.com.au/wp-content/uploads/2025/07/Festival-of-Flight-Mt-Wallace-2025.jpg
ORGANIZER;CN="MWMAA":MAILTO:joefinocc67@bigpond.com
END:VEVENT
END:VCALENDAR