BEGIN:VCALENDAR
VERSION:2.0
PRODID:-//VMAA - ECPv6.15.14//NONSGML v1.0//EN
CALSCALE:GREGORIAN
METHOD:PUBLISH
X-ORIGINAL-URL:https://www.vmaa.com.au
X-WR-CALDESC:Events for VMAA
REFRESH-INTERVAL;VALUE=DURATION:PT1H
X-Robots-Tag:noindex
X-PUBLISHED-TTL:PT1H
BEGIN:VTIMEZONE
TZID:Australia/Melbourne
BEGIN:STANDARD
TZOFFSETFROM:+1100
TZOFFSETTO:+1000
TZNAME:AEST
DTSTART:20240406T160000
END:STANDARD
BEGIN:DAYLIGHT
TZOFFSETFROM:+1000
TZOFFSETTO:+1100
TZNAME:AEDT
DTSTART:20241005T160000
END:DAYLIGHT
BEGIN:STANDARD
TZOFFSETFROM:+1100
TZOFFSETTO:+1000
TZNAME:AEST
DTSTART:20250405T160000
END:STANDARD
BEGIN:DAYLIGHT
TZOFFSETFROM:+1000
TZOFFSETTO:+1100
TZNAME:AEDT
DTSTART:20251004T160000
END:DAYLIGHT
BEGIN:STANDARD
TZOFFSETFROM:+1100
TZOFFSETTO:+1000
TZNAME:AEST
DTSTART:20260404T160000
END:STANDARD
BEGIN:DAYLIGHT
TZOFFSETFROM:+1000
TZOFFSETTO:+1100
TZNAME:AEDT
DTSTART:20261003T160000
END:DAYLIGHT
END:VTIMEZONE
BEGIN:VEVENT
DTSTART;TZID=Australia/Melbourne:20250510T080000
DTEND;TZID=Australia/Melbourne:20250511T170000
DTSTAMP:20260420T121250
CREATED:20250503T095049Z
LAST-MODIFIED:20250503T095049Z
UID:7908-1746864000-1746982800@www.vmaa.com.au
SUMMARY:BADRC Vs BRAG 2025
DESCRIPTION:BADRC is visiting BRAG.\nIf you missed out on the great time at the recent Blue Rock Float Fly.\nCome to Willow Grove for a great day or weekend.\nSaturday BBQ lunch and Sunday morning Breakfast provided.\nDiner will be at the local PUB that is under new management and has great reviews.\nPilot entry $35. No donation for camping required.\nProceeds go to the BADRC Club.
URL:https://www.vmaa.com.au/event/badrc-vs-brag-2025/
LOCATION:BawBaw RC Club – BRAG Willow Grove\, 24 blue Rock Road\, Willow Grove\, Victoria\, 3823\, Australia
CATEGORIES:Fun Fly
ATTACH;FMTTYPE=image/jpeg:https://www.vmaa.com.au/wp-content/uploads/2025/05/FLYER-BADRC-visits-BRAG-2025-V2.jpg
ORGANIZER;CN="Brag Club":MAILTO:events@bawbawrc.com.au
END:VEVENT
END:VCALENDAR